BEGIN:VCALENDAR
VERSION:2.0
PRODID:-//Novel Coronavirus (COVID-19) - ECPv5.6.0//NONSGML v1.0//EN
CALSCALE:GREGORIAN
METHOD:PUBLISH
X-WR-CALNAME:Novel Coronavirus (COVID-19)
X-ORIGINAL-URL:https://coronavirus.idaho.gov
X-WR-CALDESC:Events for Novel Coronavirus (COVID-19)
BEGIN:VTIMEZONE
TZID:America/Boise
BEGIN:DAYLIGHT
TZOFFSETFROM:-0700
TZOFFSETTO:-0600
TZNAME:MDT
DTSTART:20210314T090000
END:DAYLIGHT
BEGIN:STANDARD
TZOFFSETFROM:-0600
TZOFFSETTO:-0700
TZNAME:MST
DTSTART:20211107T080000
END:STANDARD
END:VTIMEZONE
BEGIN:VEVENT
DTSTART;TZID=America/Boise:20210505T120000
DTEND;TZID=America/Boise:20210505T130000
DTSTAMP:20210527T023922
CREATED:20210503T155000Z
LAST-MODIFIED:20210503T160643Z
UID:5157-1620216000-1620219600@coronavirus.idaho.gov
SUMMARY:Wednesday: Last AARP Telephone Town-hall on COVID-19 with Gov. Brad Little
DESCRIPTION:Governor Little will host a statewide AARP telephone town hall to provide information and answer questions regarding COVID-19 in Idaho. The hour-long conversation begins at 12 p.m. MT. Participants can join by dialing toll-free 866-767-0637 or register in advance by visiting https://vekeo.com/aarpidaho/.  
URL:https://coronavirus.idaho.gov/event/last-aarp-telephone-town-hall-on-covid-19-with-gov-brad-little/
END:VEVENT
BEGIN:VEVENT
DTSTART;TZID=America/Boise:20210511T143000
DTEND;TZID=America/Boise:20210511T153000
DTSTAMP:20210527T023922
CREATED:20210511T171402Z
LAST-MODIFIED:20210511T171402Z
UID:5203-1620743400-1620747000@coronavirus.idaho.gov
SUMMARY:DHW COVID-19 media briefing
DESCRIPTION:The Department of Health and Welfare (DHW) will hold a media briefing about COVID-19 in Idaho at 2:30 p.m. (MDT) Tuesday\, May 11. \nDHW officials will offer brief opening remarks and then take questions from the media. Those who will attend the briefing include Director Dave Jeppesen; Public Health Administrator Elke Shaw-Tulloch; Dr. Christine Hahn\, Public Health medical director and state epidemiologist; Dr. Kathryn Turner\, deputy state epidemiologist\, Sarah Leeds\, manager of the Idaho Immunization Program\, and Dr. Christopher Ball\, chief of the Idaho Bureau of Laboratories. \nMembers of the working media who would like to participate should RSVP in email to Niki Forbing-Orr\, Niki.Forbing-Orr@dhw.idaho.gov\, before noon Tuesday. You will receive a link to attend the briefing as a panelist. \nThe general public can join the briefing as attendees in listen/watch-only mode by selecting this link:\nhttps://idhw.webex.com/idhw/onstage/g.php?MTID=e5ffcea4be9bf5622e2a1ab5c04836dda \nThe Idaho Department of Health and Welfare is dedicated to strengthening the health\, safety\, and independence of Idahoans. Learn more at healthandwelfare.idaho.gov.
URL:https://coronavirus.idaho.gov/event/dhw-covid-19-media-briefing-4/
END:VEVENT
BEGIN:VEVENT
DTSTART;TZID=America/Boise:20210525T143000
DTEND;TZID=America/Boise:20210525T153000
DTSTAMP:20210527T023922
CREATED:20210524T195948Z
LAST-MODIFIED:20210524T195948Z
UID:5303-1621953000-1621956600@coronavirus.idaho.gov
SUMMARY:DHW COVID-19 Media Briefing
DESCRIPTION:The Department of Health and Welfare (DHW) will hold a media briefing about COVID-19 in Idaho at 2:30 p.m. (MDT) Tuesday\, May 25. \nDHW officials will offer brief opening remarks and then take questions from the media. Those who will attend the briefing include Director Dave Jeppesen; Public Health Administrator Elke Shaw-Tulloch; Dr. Christine Hahn\, Public Health medical director and state epidemiologist; Dr. Kathryn Turner\, deputy state epidemiologist\, Sarah Leeds\, manager of the Idaho Immunization Program\, and Dr. Christopher Ball\, chief of the Idaho Bureau of Laboratories. \nThe general public can join the briefing as attendees in listen/watch-only mode by selecting this link: \nhttps://idhw.webex.com/idhw/onstage/g.php?MTID=eb3499359fa462f2d381f16c8ad077bfb
URL:https://coronavirus.idaho.gov/event/dhw-covid-19-media-briefing-5/
END:VEVENT
END:VCALENDAR