BEGIN:VCALENDAR
VERSION:2.0
PRODID:-//Novel Coronavirus (COVID-19) - ECPv5.2.1.1//NONSGML v1.0//EN
CALSCALE:GREGORIAN
METHOD:PUBLISH
X-WR-CALNAME:Novel Coronavirus (COVID-19)
X-ORIGINAL-URL:https://coronavirus.idaho.gov
X-WR-CALDESC:Events for Novel Coronavirus (COVID-19)
BEGIN:VTIMEZONE
TZID:America/Boise
BEGIN:DAYLIGHT
TZOFFSETFROM:-0700
TZOFFSETTO:-0600
TZNAME:MDT
DTSTART:20210314T090000
END:DAYLIGHT
BEGIN:STANDARD
TZOFFSETFROM:-0600
TZOFFSETTO:-0700
TZNAME:MST
DTSTART:20211107T080000
END:STANDARD
END:VTIMEZONE
BEGIN:VEVENT
DTSTART;TZID=America/Boise:20210202T143000
DTEND;TZID=America/Boise:20210202T153000
DTSTAMP:20210523T000518
CREATED:20210201T185808Z
LAST-MODIFIED:20210201T185808Z
UID:4329-1612276200-1612279800@coronavirus.idaho.gov
SUMMARY:COVID-19 Vaccine Media Briefing
DESCRIPTION:The Department of Health and Welfare (DHW) will hold a media briefing about COVID-19 vaccine in Idaho at 2:30 p.m. MT Tuesday\, Feb. 2. \nDHW Director Dave Jeppesen and Public Health Administrator Elke Shaw-Tulloch will offer brief remarks and an update on the status of COVID-19 vaccine in Idaho\, and then will answer questions from media. \nThe general public can join the briefing as attendees in listen/watch-only mode by selecting this link: \nhttps://idhw.webex.com/idhw/onstage/g.php?MTID=eca6ad50c75af5261fee930f374295e06 \nAmerican Sign Language Interpretation will be available at the briefing. Attendees can pin the appropriate window to the top of their display\, so it is always visible.
URL:https://coronavirus.idaho.gov/event/covid-19-vaccine-media-briefing-4/
END:VEVENT
END:VCALENDAR