BEGIN:VCALENDAR
VERSION:2.0
PRODID:-//Novel Coronavirus (COVID-19) - ECPv5.9.0//NONSGML v1.0//EN
CALSCALE:GREGORIAN
METHOD:PUBLISH
X-WR-CALNAME:Novel Coronavirus (COVID-19)
X-ORIGINAL-URL:https://coronavirus.idaho.gov
X-WR-CALDESC:Events for Novel Coronavirus (COVID-19)
BEGIN:VTIMEZONE
TZID:America/Boise
BEGIN:DAYLIGHT
TZOFFSETFROM:-0700
TZOFFSETTO:-0600
TZNAME:MDT
DTSTART:20210314T090000
END:DAYLIGHT
BEGIN:STANDARD
TZOFFSETFROM:-0600
TZOFFSETTO:-0700
TZNAME:MST
DTSTART:20211107T080000
END:STANDARD
END:VTIMEZONE
BEGIN:VEVENT
DTSTART;TZID=America/Boise:20210915T120000
DTEND;TZID=America/Boise:20210915T130000
DTSTAMP:20210914T145917
CREATED:20210910T174154Z
LAST-MODIFIED:20210910T174154Z
UID:5832-1631707200-1631710800@coronavirus.idaho.gov
SUMMARY:Gov. Little hosts AARP Telephone Town-hall on COVID-19
DESCRIPTION:Governor Brad Little and Idaho Department of Health and Welfare Director Dave Jeppesen will answer questions from the public about COVID-19 during an hourlong AARP telephone town-hall on Wednesday\, Sept. 15 at noon Mountain Time. \nParticipants can join by: \n\ndialing toll-free 866-767-0637 at the time of the call\nregistering to be called in advance at https://vekeo.com/event/aarpidaho-69955/\nstreaming live at www.facebook.com/aarpidaho
URL:https://coronavirus.idaho.gov/event/gov-little-hosts-aarp-telephone-town-hall-on-covid-19-2/
END:VEVENT
END:VCALENDAR