BEGIN:VCALENDAR
VERSION:2.0
PRODID:-//Novel Coronavirus (COVID-19) - ECPv5.7.0//NONSGML v1.0//EN
CALSCALE:GREGORIAN
METHOD:PUBLISH
X-WR-CALNAME:Novel Coronavirus (COVID-19)
X-ORIGINAL-URL:https://coronavirus.idaho.gov
X-WR-CALDESC:Events for Novel Coronavirus (COVID-19)
BEGIN:VTIMEZONE
TZID:America/Boise
BEGIN:DAYLIGHT
TZOFFSETFROM:-0700
TZOFFSETTO:-0600
TZNAME:MDT
DTSTART:20200308T090000
END:DAYLIGHT
BEGIN:STANDARD
TZOFFSETFROM:-0600
TZOFFSETTO:-0700
TZNAME:MST
DTSTART:20201101T080000
END:STANDARD
BEGIN:DAYLIGHT
TZOFFSETFROM:-0700
TZOFFSETTO:-0600
TZNAME:MDT
DTSTART:20210314T090000
END:DAYLIGHT
BEGIN:STANDARD
TZOFFSETFROM:-0600
TZOFFSETTO:-0700
TZNAME:MST
DTSTART:20211107T080000
END:STANDARD
END:VTIMEZONE
BEGIN:VEVENT
DTSTART;TZID=America/Boise:20201026T150000
DTEND;TZID=America/Boise:20201026T160000
DTSTAMP:20210728T165115
CREATED:20201025T192129Z
LAST-MODIFIED:20201025T192129Z
UID:2995-1603724400-1603728000@coronavirus.idaho.gov
SUMMARY:COVID-19 Press Conference
DESCRIPTION:Governor Brad Little will host a press conference Monday at 3 p.m. MT to make an important announcement about COVID-19 in Idaho. The press conference will be broadcast on Idaho Public Television and streamed to the public at https://www.idahoptv.org/shows/idahoinsession/governor/.
URL:https://coronavirus.idaho.gov/event/covid-19-press-conference/
END:VEVENT
BEGIN:VEVENT
DTSTART;TZID=America/Boise:20201027T120000
DTEND;TZID=America/Boise:20201027T130000
DTSTAMP:20210728T165115
CREATED:20201026T233059Z
LAST-MODIFIED:20201026T233059Z
UID:3030-1603800000-1603803600@coronavirus.idaho.gov
SUMMARY:AARP Telephone Town-hall regarding COVID-19 with Gov. Little and Commission on Aging Administrator Judy Bicknell Taylor
DESCRIPTION:Governor Little and Idaho Commission on Aging Administrator Judy Bicknell Taylor will host a statewide AARP telephone town hall to provide information and answer questions regarding COVID-19 in Idaho. The hour-long conversation begins at 12 p.m. Participants can join by dialing toll-free 866-767-0637 or register in advance by visiting https://vekeo.com/aarpidaho/.
URL:https://coronavirus.idaho.gov/event/aarp-telephone-town-hall-regarding-covid-19-with-gov-little-and-commission-on-aging-administrator-judy-bicknell-taylor/
END:VEVENT
BEGIN:VEVENT
DTSTART;TZID=America/Boise:20201028T150000
DTEND;TZID=America/Boise:20201028T160000
DTSTAMP:20210728T165115
CREATED:20201026T222002Z
LAST-MODIFIED:20201026T222027Z
UID:3021-1603897200-1603900800@coronavirus.idaho.gov
SUMMARY:Coronavirus Financial Advisory Committee meeting
DESCRIPTION:COVID-19 Financial Advisory Committee (CFAC) \nWednesday\, October 28\, 2020 \n3:00 p.m. MT  \nDial-in: 1-720-279-0026 \nPasscode: 282979 \nAGENDA \nWelcome – Alex J. Adams  \nUpdate(s) and Action Item(s):  \n\nDiscussion of reverting unspent dollars for redistribution\nOffice of Information Technology Services (ITS) Proposal\n\nEstablish Next Meeting(s)  \nPublic comments may be submitted to CFAC@dfm.idaho.gov \n  \n 
URL:https://coronavirus.idaho.gov/event/coronavirus-financial-advisory-committee-meeting-15/
END:VEVENT
BEGIN:VEVENT
DTSTART;TZID=America/Boise:20201105T140000
DTEND;TZID=America/Boise:20201105T160000
DTSTAMP:20210728T165115
CREATED:20201103T164339Z
LAST-MODIFIED:20201105T193724Z
UID:3083-1604584800-1604592000@coronavirus.idaho.gov
SUMMARY:Coronavirus Financial Advisory Committee meeting
DESCRIPTION:COVID-19 Financial Advisory Committee (CFAC) \nThursday\, November 5\, 2020 \n2:00 p.m. MT  \nDial-in: 1-720-279-0026 \nPasscode: 282979 \nAGENDA \nWelcome – Alex J. Adams  \nUpdate(s) and Action Item(s):  \n\nDiscussion of reverting unspent dollars for redistribution\nVeterans Services Proposal\nJudicial Branch Proposal\nRebound Committee Proposal\n\nEstablish Next Meeting(s)  \nPublic comments may be submitted to CFAC@dfm.idaho.gov
URL:https://coronavirus.idaho.gov/event/coronavirus-financial-advisory-committee-meeting-16/
END:VEVENT
BEGIN:VEVENT
DTSTART;TZID=America/Boise:20201110T120000
DTEND;TZID=America/Boise:20201110T130000
DTSTAMP:20210728T165115
CREATED:20201109T173447Z
LAST-MODIFIED:20201109T173447Z
UID:3113-1605009600-1605013200@coronavirus.idaho.gov
SUMMARY:AARP Telephone Town-hall on COVID-19 with Gov. Brad Little
DESCRIPTION:Governor Little will host a statewide AARP telephone town hall to provide information and answer questions regarding COVID-19 in Idaho. The hour-long conversation begins at 12 p.m. Mountain Time. Participants can join by dialing toll-free 866-767-0637 or register in advance by visiting https://vekeo.com/aarpidaho/.
URL:https://coronavirus.idaho.gov/event/aarp-telephone-town-hall-on-covid-19-with-gov-brad-little/
END:VEVENT
BEGIN:VEVENT
DTSTART;TZID=America/Boise:20201113T130000
DTEND;TZID=America/Boise:20201113T140000
DTSTAMP:20210728T165115
CREATED:20201111T155206Z
LAST-MODIFIED:20201111T155206Z
UID:3136-1605272400-1605276000@coronavirus.idaho.gov
SUMMARY:COVID-19 Press Conference with Gov. Little
DESCRIPTION:Governor Brad Little will hold a virtual press conference updating Idahoans on COVID-19 in the state Friday\, November 13\, at 1 p.m. MT. The conference will be streamed to the public online at https://www.idahoptv.org/shows/idahoinsession/governor/ and broadcast live on Idaho Public Television statewide on the Idaho channel (.1).
URL:https://coronavirus.idaho.gov/event/covid-19-press-conference-with-gov-little/
END:VEVENT
BEGIN:VEVENT
DTSTART;TZID=America/Boise:20201117T160000
DTEND;TZID=America/Boise:20201117T170000
DTSTAMP:20210728T165115
CREATED:20201113T213742Z
LAST-MODIFIED:20201113T213832Z
UID:3166-1605628800-1605632400@coronavirus.idaho.gov
SUMMARY:Coronavirus Financial Advisory Committee meeting
DESCRIPTION:COVID-19 Financial Advisory Committee (CFAC) \nTuesday\, November 17\, 2020 \n4:00 p.m. MT  \nDial-in: 1-720-279-0026 \nPasscode: 282979 \nAGENDA \nWelcome – Alex J. Adams  \nUpdate(s) and Action Item(s):  \n\nDiscussion of reverting unspent dollars for redistribution\nIdaho Military Division Proposal\n\nEstablish Next Meeting(s) \nPublic comments may be submitted to CFAC@dfm.idaho.gov \n 
URL:https://coronavirus.idaho.gov/event/coronavirus-financial-advisory-committee-meeting-17/
END:VEVENT
BEGIN:VEVENT
DTSTART;TZID=America/Boise:20201124T120000
DTEND;TZID=America/Boise:20201124T130000
DTSTAMP:20210728T165115
CREATED:20201120T182115Z
LAST-MODIFIED:20201120T182115Z
UID:3297-1606219200-1606222800@coronavirus.idaho.gov
SUMMARY:AARP Telephone Town-hall on COVID-19 with Gov. Brad Little
DESCRIPTION:Governor Little will host a statewide AARP telephone town hall to provide information and answer questions regarding COVID-19 in Idaho. The hour-long conversation begins at 12 p.m.  Mountain Time. Participants can join by dialing toll-free 866-767-0637 or register in advance by visiting https://vekeo.com/aarpidaho/.
URL:https://coronavirus.idaho.gov/event/aarp-telephone-town-hall-on-covid-19-with-gov-brad-little-2/
END:VEVENT
BEGIN:VEVENT
DTSTART;TZID=America/Boise:20201125T110000
DTEND;TZID=America/Boise:20201125T120000
DTSTAMP:20210728T165115
CREATED:20201123T225625Z
LAST-MODIFIED:20201124T191812Z
UID:3348-1606302000-1606305600@coronavirus.idaho.gov
SUMMARY:Coronavirus Financial Advisory Committee meeting
DESCRIPTION:COVID-19 Financial Advisory Committee (CFAC) \nWednesday\, November 25\, 2020 \n11:00 a.m. MT  \nDial-in: 1-720-279-0026 \nPasscode: 282979 \nAGENDA \nWelcome – Alex J. Adams  \nUpdate(s) and Action Item(s):  \n\nDiscussion of reverting unspent dollars for redistribution\nDHW Proposal for Enhancing Healthcare Staffing\nDHW Vaccine Rollout\n\nEstablish Next Meeting(s)  \nPublic comments may be submitted to CFAC@dfm.idaho.gov \n 
URL:https://coronavirus.idaho.gov/event/coronavirus-financial-advisory-committee-meeting-18/
END:VEVENT
BEGIN:VEVENT
DTSTART;TZID=America/Boise:20201208T120000
DTEND;TZID=America/Boise:20201208T130000
DTSTAMP:20210728T165115
CREATED:20201207T231833Z
LAST-MODIFIED:20201207T231833Z
UID:3528-1607428800-1607432400@coronavirus.idaho.gov
SUMMARY:AARP Telephone Town-hall with Gov. Brad Little
DESCRIPTION:Governor Little will host a statewide AARP telephone town hall to provide information and answer questions regarding COVID-19 in Idaho. The hour-long conversation begins at 12 p.m. MT. Participants can join by dialing toll-free 866-767-0637 or register in advance by visiting https://vekeo.com/aarpidaho/.
URL:https://coronavirus.idaho.gov/event/aarp-telephone-town-hall-with-gov-brad-little/
END:VEVENT
BEGIN:VEVENT
DTSTART;TZID=America/Boise:20201210T120000
DTEND;TZID=America/Boise:20201210T130000
DTSTAMP:20210728T165115
CREATED:20201207T234903Z
LAST-MODIFIED:20201207T234903Z
UID:3530-1607601600-1607605200@coronavirus.idaho.gov
SUMMARY:Press Conference: COVID-19 update with Gov. Brad Little
DESCRIPTION:Governor Brad Little will hold a virtual press conference updating Idahoans on COVID-19 in the state Thursday\, December 10 at 12 p.m. MT. The conference will be streamed to the public online at https://www.idahoptv.org/shows/idahoinsession/governor/ and broadcast live on Idaho Public Television statewide on the Idaho channel (.1).
URL:https://coronavirus.idaho.gov/event/press-conference-covid-19-update-with-gov-brad-little/
END:VEVENT
BEGIN:VEVENT
DTSTART;TZID=America/Boise:20201215T160000
DTEND;TZID=America/Boise:20201215T170000
DTSTAMP:20210728T165115
CREATED:20201211T213350Z
LAST-MODIFIED:20201214T163148Z
UID:3596-1608048000-1608051600@coronavirus.idaho.gov
SUMMARY:Coronavirus Financial Advisory Committee meeting
DESCRIPTION:COVID-19 Financial Advisory Committee (CFAC) \nTuesday\, December 15\, 2020 \n4:00 p.m. MT  \nDial-in: 1-720-279-0026 \nPasscode: 282979 \nWelcome – Alex J. Adams  \nUpdate(s) and Action Item(s):  \n\nReverting Unspent Dollars for Re-allocation\nState Public Health and Public Safety Payroll Costs\nLocal Government Direct COVID-19 Healthcare Costs\nBonner County Request for Additional Federal Funds\n\nEstablish Next Meeting(s)  \nPublic comments may be submitted to CFAC@dfm.idaho.gov \n 
URL:https://coronavirus.idaho.gov/event/3596/
END:VEVENT
BEGIN:VEVENT
DTSTART;TZID=America/Boise:20201222T120000
DTEND;TZID=America/Boise:20201222T130000
DTSTAMP:20210728T165115
CREATED:20201221T165523Z
LAST-MODIFIED:20201221T165523Z
UID:3708-1608638400-1608642000@coronavirus.idaho.gov
SUMMARY:AARP Telephone Town-hall on COVID-19 with Gov. Brad Little
DESCRIPTION:Governor Little will host a statewide AARP telephone town hall to provide information and answer questions regarding COVID-19 in Idaho. The hour-long conversation begins at 12 p.m. MT. Participants can join by dialing toll-free 866-767-0637 or register in advance by visiting https://vekeo.com/aarpidaho/.
URL:https://coronavirus.idaho.gov/event/aarp-telephone-town-hall-on-covid-19-with-gov-brad-little-3/
END:VEVENT
BEGIN:VEVENT
DTSTART;TZID=America/Boise:20201223T160000
DTEND;TZID=America/Boise:20201223T170000
DTSTAMP:20210728T165115
CREATED:20201222T002135Z
LAST-MODIFIED:20201222T191954Z
UID:3716-1608739200-1608742800@coronavirus.idaho.gov
SUMMARY:Coronavirus Financial Advisory Committee meeting
DESCRIPTION:COVID-19 Financial Advisory Committee (CFAC) \nWednesday\, December 23\, 2020 \n4:00 p.m. MT  \nDial-in: 1-720-279-0026 \nPasscode: 282979 \nWelcome – Alex J. Adams  \nUpdate(s) and Action Item(s):  \n\nReverting Unspent Dollars for Re-allocation\nDFM Proposal for Final Allocations\n\nAdjournment of CFAC  \nPublic comments may be submitted to CFAC@dfm.idaho.gov
URL:https://coronavirus.idaho.gov/event/coronavirus-financial-advisory-committee-meeting-19/
END:VEVENT
BEGIN:VEVENT
DTSTART;TZID=America/Boise:20210105T120000
DTEND;TZID=America/Boise:20210105T130000
DTSTAMP:20210728T165115
CREATED:20210104T190327Z
LAST-MODIFIED:20210104T190327Z
UID:3840-1609848000-1609851600@coronavirus.idaho.gov
SUMMARY:AARP Telephone Town-hall on COVID-19 with Gov. Brad Little
DESCRIPTION:Governor Little will host a statewide AARP telephone town hall to provide information and answer questions regarding COVID-19 in Idaho. The hour-long conversation begins at 12 p.m. Participants can join by dialing toll-free 866-767-0637 or register in advance by visiting https://vekeo.com/aarpidaho/.
URL:https://coronavirus.idaho.gov/event/aarp-telephone-town-hall-on-covid-19-with-gov-brad-little-4/
END:VEVENT
BEGIN:VEVENT
DTSTART;TZID=America/Boise:20210105T143000
DTEND;TZID=America/Boise:20210105T153000
DTSTAMP:20210728T165115
CREATED:20210104T190527Z
LAST-MODIFIED:20210104T190527Z
UID:3843-1609857000-1609860600@coronavirus.idaho.gov
SUMMARY:COVID-19 Vaccine Media Briefing
DESCRIPTION:The Department of Health and Welfare (DHW) will hold a media briefing about COVID-19 vaccine in Idaho at 2:30 p.m. Tuesday\, Jan. 5. Gov. Brad Little\, DHW Director Dave Jeppesen\, and Public Health Administrator Elke Shaw-Tulloch will offer brief remarks and an update on the status of COVID-19 vaccine in Idaho\, and then health officials will answer questions from media. \nThe general public can join the briefing in listen/watch-only mode by selecting this link: \nhttps://idhw.webex.com/idhw/onstage/g.php?MTID=e2cccf5a363cfc1e7654e8fb651232869
URL:https://coronavirus.idaho.gov/event/covid-19-vaccine-media-briefing/
END:VEVENT
BEGIN:VEVENT
DTSTART;TZID=America/Boise:20210111T130000
DTEND;TZID=America/Boise:20210111T140000
DTSTAMP:20210728T165115
CREATED:20210109T194846Z
LAST-MODIFIED:20210109T194846Z
UID:3909-1610370000-1610373600@coronavirus.idaho.gov
SUMMARY:2021 State of the State and Budget Address - Gov. Brad Little
DESCRIPTION:Governor Little will deliver the State of the State and Budget Address at 1 p.m. MT. The public can view the address on Idaho Public Television (.1) and online at https://www.youtube.com/channel/UCcilbrY8iMEwzNHNugHqlhw.
URL:https://coronavirus.idaho.gov/event/2021-state-of-the-state-and-budget-address-gov-brad-little/
END:VEVENT
BEGIN:VEVENT
DTSTART;TZID=America/Boise:20210112T140000
DTEND;TZID=America/Boise:20210112T143000
DTSTAMP:20210728T165115
CREATED:20210112T004835Z
LAST-MODIFIED:20210112T004835Z
UID:4011-1610460000-1610461800@coronavirus.idaho.gov
SUMMARY:2:20 PM MT: Gov. Little COVID-19 Vaccine Announcement
DESCRIPTION:Governor Brad Little will deliver a message to the people of Idaho on the COVID-19 vaccine at 2:20 p.m. MT on Tuesday\, January 12\, 2021. The Governor’s message will be available to watch on Idaho Public Television (.1) and online at https://www.idahoptv.org/shows/idahoinsession/governor/.
URL:https://coronavirus.idaho.gov/event/220-pm-mt-gov-little-covid-19-vaccine-announcement/
END:VEVENT
BEGIN:VEVENT
DTSTART;TZID=America/Boise:20210112T143000
DTEND;TZID=America/Boise:20210112T153000
DTSTAMP:20210728T165115
CREATED:20210111T224602Z
LAST-MODIFIED:20210111T224602Z
UID:3985-1610461800-1610465400@coronavirus.idaho.gov
SUMMARY:IDHW weekly vaccine media briefing
DESCRIPTION:IDHW weekly vaccine media briefing – Tuesday\, January 12 at 2:30 PM MT. \nDetails on how to participate available at: https://healthandwelfare.idaho.gov/news/covid-19-vaccine-media-briefing-set-tuesday-0. \n 
URL:https://coronavirus.idaho.gov/event/idhw-weekly-vaccine-media-briefing/
END:VEVENT
BEGIN:VEVENT
DTSTART;TZID=America/Boise:20210119T120000
DTEND;TZID=America/Boise:20210119T130000
DTSTAMP:20210728T165115
CREATED:20210115T180429Z
LAST-MODIFIED:20210115T180429Z
UID:4093-1611057600-1611061200@coronavirus.idaho.gov
SUMMARY:AARP Telephone Town-hall on COVID-19 with Gov. Brad Little
DESCRIPTION:Governor Little will host a statewide AARP telephone town hall to provide information and answer questions regarding COVID-19 in Idaho. The hour-long conversation begins at 12 p.m. MT. Participants can join by dialing toll-free 866-767-0637 or register in advance by visiting https://vekeo.com/aarpidaho/.
URL:https://coronavirus.idaho.gov/event/aarp-telephone-town-hall-on-covid-19-with-gov-brad-little-5/
END:VEVENT
BEGIN:VEVENT
DTSTART;TZID=America/Boise:20210119T143000
DTEND;TZID=America/Boise:20210119T153000
DTSTAMP:20210728T165115
CREATED:20210115T180639Z
LAST-MODIFIED:20210116T003853Z
UID:4095-1611066600-1611070200@coronavirus.idaho.gov
SUMMARY:COVID-19 Vaccine Media Briefing
DESCRIPTION:The Department of Health and Welfare (DHW) will hold a media briefing about COVID-19 vaccine in Idaho at 2:30 p.m. Tuesday\, Jan. 19. DHW Director Dave Jeppesen and Public Health Administrator Elke Shaw-Tulloch will offer brief remarks and an update on the status of COVID-19 vaccine in Idaho\, and then will answer questions from media. \nThe general public can join the briefing in listen/watch-only mode by selecting this link: \nhttps://idhw.webex.com/idhw/onstage/g.php?MTID=e65dc068eb1269ee40e9e2a62508ee8b2
URL:https://coronavirus.idaho.gov/event/covid-19-vaccine-media-briefing-2/
END:VEVENT
BEGIN:VEVENT
DTSTART;TZID=America/Boise:20210122T120000
DTEND;TZID=America/Boise:20210122T123000
DTSTAMP:20210728T165115
CREATED:20210122T160708Z
LAST-MODIFIED:20210122T161119Z
UID:4173-1611316800-1611318600@coronavirus.idaho.gov
SUMMARY:SPECIAL ANNOUNCEMENT - Gov. Little to speak about COVID-19 emergency
DESCRIPTION:Governor Brad Little will make an announcement regarding the COVID-19 emergency on Friday\, January 22\, 2021 at 12 p.m. MT. \nThe announcement will be broadcast on Idaho Public Television (.1) and online at https://www.youtube.com/user/IdahoPTV.
URL:https://coronavirus.idaho.gov/event/special-announcement-gov-little-to-speak-about-covid-19-emergency/
END:VEVENT
BEGIN:VEVENT
DTSTART;TZID=America/Boise:20210122T120000
DTEND;TZID=America/Boise:20210122T140000
DTSTAMP:20210728T165115
CREATED:20210120T181533Z
LAST-MODIFIED:20210120T181533Z
UID:4150-1611316800-1611324000@coronavirus.idaho.gov
SUMMARY:COVID-19 Vaccine Advisory Committee meeting
DESCRIPTION:The COVID-19 Vaccine Advisory Committee will meet from noon to 2 p.m. (MT) on Friday\, Jan. 22\, via Webex. Read the full agenda. \nThe meeting is open to the public in listen/watch-only mode at this link:  https://idhw.webex.com/idhw/onstage/g.php?MTID=e3a9172f388290f5052467d4f2252ca07 \nAmerican Sign Language services is available for committee meetings. \nThe Idaho COVID-19 Vaccine Advisory Committee was formed by the Idaho Department of Health and Welfare at the direction of Gov. Brad Little in October and its members represent stakeholders from across Idaho\, including the tribes\, priority populations\, healthcare systems and providers\, and immunization organizations. Learn more about the committee at https://coronavirus.idaho.gov/idaho-covid-19-vaccine-advisory-committee/.
URL:https://coronavirus.idaho.gov/event/covid-19-vaccine-advisory-committee-meeting/
END:VEVENT
BEGIN:VEVENT
DTSTART;TZID=America/Boise:20210126T143000
DTEND;TZID=America/Boise:20210126T153000
DTSTAMP:20210728T165115
CREATED:20210125T181306Z
LAST-MODIFIED:20210125T181306Z
UID:4217-1611671400-1611675000@coronavirus.idaho.gov
SUMMARY:COVID-19 Vaccine Media Briefing
DESCRIPTION:The Department of Health and Welfare (DHW) will hold a media briefing about COVID-19 vaccine in Idaho at 2:30 p.m. MT Tuesday\, Jan. 26. DHW Director Dave Jeppesen and Public Health Administrator Elke Shaw-Tulloch will offer brief remarks and an update on the status of COVID-19 vaccine in Idaho\, and then will answer questions from media. \nThe general public can join the briefing in listen/watch-only mode by selecting this link: https://idhw.webex.com/idhw/onstage/g.php?MTID=e9397de69c061735d49406ad078c1a1a0
URL:https://coronavirus.idaho.gov/event/covid-19-vaccine-media-briefing-3/
END:VEVENT
BEGIN:VEVENT
DTSTART;TZID=America/Boise:20210128T130000
DTEND;TZID=America/Boise:20210128T133000
DTSTAMP:20210728T165115
CREATED:20210127T194534Z
LAST-MODIFIED:20210127T194534Z
UID:4252-1611838800-1611840600@coronavirus.idaho.gov
SUMMARY:Governor's Press Conference: COVID-19 Vaccine
DESCRIPTION:Governor Brad Little will hold a virtual press conference regarding the distribution and administration of the COVID-19 vaccine on Thursday\, January 28\, from 1:00 to 1:30 p.m. MT. The announcement will be broadcast to the public online at https://www.youtube.com/user/IdahoPTV.
URL:https://coronavirus.idaho.gov/event/governors-press-conference-covid-19-vaccine/
END:VEVENT
BEGIN:VEVENT
DTSTART;TZID=America/Boise:20210202T100000
DTEND;TZID=America/Boise:20210202T103000
DTSTAMP:20210728T165115
CREATED:20210202T001708Z
LAST-MODIFIED:20210202T001708Z
UID:4348-1612260000-1612261800@coronavirus.idaho.gov
SUMMARY:Gov. Little's announcement regarding COVID-19 response
DESCRIPTION:Governor Little will make an announcement regarding Idaho’s COVID-19 response at 10 a.m. MT. \nThe announcement will be streamed to the public online at https://www.idahoptv.org/shows/idahoinsession/governor/.
URL:https://coronavirus.idaho.gov/event/gov-littles-announcement-regarding-covid-19-response/
END:VEVENT
BEGIN:VEVENT
DTSTART;TZID=America/Boise:20210202T120000
DTEND;TZID=America/Boise:20210202T130000
DTSTAMP:20210728T165115
CREATED:20210201T174529Z
LAST-MODIFIED:20210201T174529Z
UID:4325-1612267200-1612270800@coronavirus.idaho.gov
SUMMARY:AARP Telephone Town-hall: COVID-19 Update with Gov. Brad Little
DESCRIPTION:Governor Little will host a statewide AARP telephone town hall to provide information and answer questions regarding COVID-19 in Idaho. The hour-long conversation begins at 12 p.m. MT. Participants can join by dialing toll-free 866-767-0637 or register in advance by visiting https://vekeo.com/aarpidaho/.
URL:https://coronavirus.idaho.gov/event/aarp-telephone-town-hall-covid-19-update-with-gov-brad-little/
END:VEVENT
BEGIN:VEVENT
DTSTART;TZID=America/Boise:20210202T143000
DTEND;TZID=America/Boise:20210202T153000
DTSTAMP:20210728T165115
CREATED:20210201T185808Z
LAST-MODIFIED:20210201T185808Z
UID:4329-1612276200-1612279800@coronavirus.idaho.gov
SUMMARY:COVID-19 Vaccine Media Briefing
DESCRIPTION:The Department of Health and Welfare (DHW) will hold a media briefing about COVID-19 vaccine in Idaho at 2:30 p.m. MT Tuesday\, Feb. 2. \nDHW Director Dave Jeppesen and Public Health Administrator Elke Shaw-Tulloch will offer brief remarks and an update on the status of COVID-19 vaccine in Idaho\, and then will answer questions from media. \nThe general public can join the briefing as attendees in listen/watch-only mode by selecting this link: \nhttps://idhw.webex.com/idhw/onstage/g.php?MTID=eca6ad50c75af5261fee930f374295e06 \nAmerican Sign Language Interpretation will be available at the briefing. Attendees can pin the appropriate window to the top of their display\, so it is always visible.
URL:https://coronavirus.idaho.gov/event/covid-19-vaccine-media-briefing-4/
END:VEVENT
BEGIN:VEVENT
DTSTART;TZID=America/Boise:20210205T120000
DTEND;TZID=America/Boise:20210205T140000
DTSTAMP:20210728T165115
CREATED:20210129T005822Z
LAST-MODIFIED:20210203T004531Z
UID:4285-1612526400-1612533600@coronavirus.idaho.gov
SUMMARY:Idaho’s COVID-19 Vaccine Advisory Committee
DESCRIPTION:Idaho’s COVID-19 Vaccine Advisory Committee \nThe public can watch/listen only via this attendee link: https://idhw.webex.com/idhw/onstage/g.php?MTID=e9e02e32b31f602867a47d3871daff54e \nASL Interpreters will be in attendance. \nPublic comment email: covid19vaccinepubliccomment@dhw.idaho.gov \nAgenda
URL:https://coronavirus.idaho.gov/event/idahos-covid-19-advisory-committee/
END:VEVENT
BEGIN:VEVENT
DTSTART;TZID=America/Boise:20210209T143000
DTEND;TZID=America/Boise:20210209T153000
DTSTAMP:20210728T165115
CREATED:20210208T220102Z
LAST-MODIFIED:20210209T213110Z
UID:4433-1612881000-1612884600@coronavirus.idaho.gov
SUMMARY:COVID-19 Vaccine media briefing
DESCRIPTION:The Department of Health and Welfare (DHW) will hold a media briefing about COVID-19 vaccine in Idaho at 2:30 p.m. Tuesday\, Feb. 9. DHW Director Dave Jeppesen and Public Health Administrator Elke Shaw-Tulloch will offer brief remarks and an update on the status of COVID-19 vaccine in Idaho\, and then will answer questions from media\, along with Dr. Christine Hahn and Sarah Leeds\, Idaho Immunization Program manager. \nThe general public can join the briefing as attendees in listen/watch-only mode by selecting this link: \nhttps://idhw.webex.com/idhw/onstage/g.php?MTID=e634ebb83948e0df086f831ee12bea70f \nAmerican Sign Language Interpretation will be provided at the briefing. Attendees can pin the appropriate window to the top of their display\, so it is always visible.
URL:https://coronavirus.idaho.gov/event/covid-19-vaccine-media-briefing-5/
END:VEVENT
END:VCALENDAR