BEGIN:VCALENDAR
VERSION:2.0
PRODID:-//Novel Coronavirus (COVID-19) - ECPv5.7.0//NONSGML v1.0//EN
CALSCALE:GREGORIAN
METHOD:PUBLISH
X-WR-CALNAME:Novel Coronavirus (COVID-19)
X-ORIGINAL-URL:https://coronavirus.idaho.gov
X-WR-CALDESC:Events for Novel Coronavirus (COVID-19)
BEGIN:VTIMEZONE
TZID:America/Boise
BEGIN:DAYLIGHT
TZOFFSETFROM:-0700
TZOFFSETTO:-0600
TZNAME:MDT
DTSTART:20200308T090000
END:DAYLIGHT
BEGIN:STANDARD
TZOFFSETFROM:-0600
TZOFFSETTO:-0700
TZNAME:MST
DTSTART:20201101T080000
END:STANDARD
END:VTIMEZONE
BEGIN:VEVENT
DTSTART;TZID=America/Boise:20200915T130000
DTEND;TZID=America/Boise:20200915T150000
DTSTAMP:20210809T080834
CREATED:20200911T201424Z
LAST-MODIFIED:20200911T201424Z
UID:2666-1600174800-1600182000@coronavirus.idaho.gov
SUMMARY:Coronavirus Financial Advisory Committee meeting
DESCRIPTION:COVID-19 Financial Advisory Committee (CFAC) \nTuesday\, September 15\, 2020 \n1:00 p.m. MT  \nDial-in: 1-720-279-0026 \nPasscode: 282979 \nAGENDA \nWelcome – Alex J. Adams  \nUpdate(s) and Action Item(s):  \n\nSpecial Session Follow-up – Boise Expenses\nElementary and Secondary School Support\nStrong Families\, Strong Students\n\nEstablish Next Meeting(s)  \nPublic comments may be submitted to CFAC@dfm.idaho.gov
URL:https://coronavirus.idaho.gov/event/coronavirus-financial-advisory-committee-meeting-13/
END:VEVENT
BEGIN:VEVENT
DTSTART;TZID=America/Boise:20200915T120000
DTEND;TZID=America/Boise:20200915T130000
DTSTAMP:20210809T080834
CREATED:20200914T180359Z
LAST-MODIFIED:20200914T180359Z
UID:2675-1600171200-1600174800@coronavirus.idaho.gov
SUMMARY:AARP Telephone Town-hall on COVID-19
DESCRIPTION:Governor Little will host a statewide AARP telephone town hall to provide information and answer questions regarding COVID-19 in Idaho. \nThe hour-long conversation begins at 12 p.m. Mountain Time. \nParticipants can join by dialing toll-free 866-767-0637 or register in advance by visiting https://vekeo.com/aarpidaho/.
URL:https://coronavirus.idaho.gov/event/aarp-telephone-town-hall-on-covid-19-5/
END:VEVENT
BEGIN:VEVENT
DTSTART;TZID=America/Boise:20200911T120000
DTEND;TZID=America/Boise:20200911T130000
DTSTAMP:20210809T080834
CREATED:20200909T143827Z
LAST-MODIFIED:20200909T143827Z
UID:2641-1599825600-1599829200@coronavirus.idaho.gov
SUMMARY:Press Conference: Education Funding and Supporting Parents
DESCRIPTION:Governor Brad Little will hold a press conference with Idaho education leaders regarding education funding and supporting Idaho parents on Friday\, Sept. 11 at 12 p.m. MST. The press conference will be carried on Idaho Public Television and streamed at https://www.idahoptv.org/shows/idahoinsession/governor/.
URL:https://coronavirus.idaho.gov/event/press-conference-education-funding-and-supporting-parents/
END:VEVENT
BEGIN:VEVENT
DTSTART;TZID=America/Boise:20200903T140000
DTEND;TZID=America/Boise:20200903T160000
DTSTAMP:20210809T080834
CREATED:20200831T233842Z
LAST-MODIFIED:20200902T165706Z
UID:2591-1599141600-1599148800@coronavirus.idaho.gov
SUMMARY:Coronavirus Financial Advisory Committee meeting
DESCRIPTION:COVID-19 Financial Advisory Committee (CFAC) \nThursday\, September 3\, 2020 \n2:00 p.m. MT  \nDial-in: 1-720-279-0026 \nPasscode: 282979 \nAGENDA \nWelcome – Alex J. Adams  \nUpdate(s) and Action Item(s):  \n\nDepartment of Labor Lost Wage Assistance\nUnemployment Insurance Trust Fund\nCouncil on Domestic Violence Proposal\nSpecial session follow up\n\nEstablish Next Meeting(s)  \nPublic comments may be submitted to CFAC@dfm.idaho.gov \n  \n 
URL:https://coronavirus.idaho.gov/event/coronavirus-financial-advisory-committee-meeting-12/
END:VEVENT
BEGIN:VEVENT
DTSTART;TZID=America/Boise:20200903T110000
DTEND;TZID=America/Boise:20200903T120000
DTSTAMP:20210809T080834
CREATED:20200831T185016Z
LAST-MODIFIED:20200831T185212Z
UID:2581-1599130800-1599134400@coronavirus.idaho.gov
SUMMARY:Press Conference on Stage 4 of Idaho Rebounds
DESCRIPTION:Governor Little will host a press conference regarding Stage 4 of Idaho Rebounds at 11 a.m. Mountain Time. The conference will be streamed to the public online at https://www.idahoptv.org/shows/idahoinsession/governor/.
URL:https://coronavirus.idaho.gov/event/press-conference-on-stage-4-of-idaho-rebounds/
END:VEVENT
BEGIN:VEVENT
DTSTART;TZID=America/Boise:20200901T120000
DTEND;TZID=America/Boise:20200901T130000
DTSTAMP:20210809T080834
CREATED:20200831T184640Z
LAST-MODIFIED:20200831T184656Z
UID:2578-1598961600-1598965200@coronavirus.idaho.gov
SUMMARY:AARP Telephone Town-hall on COVID-19 with Gov. Little & U.S. Attorney Bart Davis
DESCRIPTION:Governor Little will host a statewide AARP telephone town hall to provide information and answer questions regarding COVID-19 in Idaho. U.S. Attorney Bart Davis will join Governor Little on the call. \nThe hour-long conversation begins at 12 p.m. MT. \nParticipants can join by dialing toll-free 866-767-0637 or register in advance by visiting https://vekeo.com/aarpidaho/.
URL:https://coronavirus.idaho.gov/event/aarp-telephone-town-hall-with-gov-little-u-s-attorney-bart-davis/
END:VEVENT
BEGIN:VEVENT
DTSTART;TZID=America/Boise:20200821T120000
DTEND;TZID=America/Boise:20200821T130000
DTSTAMP:20210809T080834
CREATED:20200819T203720Z
LAST-MODIFIED:20200819T203720Z
UID:2417-1598011200-1598014800@coronavirus.idaho.gov
SUMMARY:COVID-19 Press Conference at The Idaho Foodbank
DESCRIPTION:Governor Little will host a press conference regarding COVID-19 at The Idaho Foodbank at 12 PM Mountain Time. The press conference will be carried live on Idaho Public Television and will also be streaming online at https://www.idahoptv.org/shows/idahoinsession/governor/.
URL:https://coronavirus.idaho.gov/event/covid-19-press-conference-at-the-idaho-foodbank/
END:VEVENT
BEGIN:VEVENT
DTSTART;TZID=America/Boise:20200818T120000
DTEND;TZID=America/Boise:20200818T130000
DTSTAMP:20210809T080834
CREATED:20200814T172806Z
LAST-MODIFIED:20200814T172806Z
UID:2370-1597752000-1597755600@coronavirus.idaho.gov
SUMMARY:AARP Telephone Town-hall on COVID-19
DESCRIPTION:Governor Little will host a statewide AARP telephone town hall to provide information and answer questions regarding COVID-19 in Idaho. The hour-long conversation begins at 12 p.m. Mountain Time. Participants can join by dialing toll-free 866-767-0637 or register in advance by visiting https://vekeo.com/aarpidaho/.
URL:https://coronavirus.idaho.gov/event/aarp-telephone-town-hall-on-covid-19-4/
END:VEVENT
BEGIN:VEVENT
DTSTART;TZID=America/Boise:20200814T140000
DTEND;TZID=America/Boise:20200814T160000
DTSTAMP:20210809T080834
CREATED:20200813T152204Z
LAST-MODIFIED:20200813T152349Z
UID:2361-1597413600-1597420800@coronavirus.idaho.gov
SUMMARY:Coronavirus Financial Advisory Committee meeting
DESCRIPTION:COVID-19 Financial Advisory Committee (CFAC) \nFriday\, August 14\, 2020 \n2:00 p.m. MT  \nDial-in: 1-720-279-0026 \nPasscode: 282979 \nAGENDA \nWelcome – Alex J. Adams  \nUpdates and Action Items:  \n\nLTC Proposal\nDepartment of Juvenile Corrections Proposal\nFood Bank Proposal\n\nEstablish Next Meeting(s)  \nPublic comments may be submitted to CFAC@dfm.idaho.gov
URL:https://coronavirus.idaho.gov/event/coronavirus-financial-advisory-committee-meeting-11/
END:VEVENT
BEGIN:VEVENT
DTSTART;TZID=America/Boise:20200806T120000
DTEND;TZID=America/Boise:20200806T130000
DTSTAMP:20210809T080834
CREATED:20200803T235154Z
LAST-MODIFIED:20200803T235154Z
UID:2310-1596715200-1596718800@coronavirus.idaho.gov
SUMMARY:Press Conference on Stage 4 of Idaho Rebounds\, safe reopening of Idaho schools
DESCRIPTION:Governor Little will host a press conference regarding Stage 4 of Idaho Rebounds and the safe reopening of Idaho schools Thursday\, August 6\, at 12 p.m. Mountain Time. \nThe press conference will be streamed to the public online at https://www.idahoptv.org/shows/idahoinsession/governor/.
URL:https://coronavirus.idaho.gov/event/press-conference-on-stage-4-of-idaho-rebounds-safe-reopening-of-idaho-schools/
END:VEVENT
BEGIN:VEVENT
DTSTART;TZID=America/Boise:20200804T120000
DTEND;TZID=America/Boise:20200804T130000
DTSTAMP:20210809T080834
CREATED:20200731T203951Z
LAST-MODIFIED:20200731T204150Z
UID:2297-1596542400-1596546000@coronavirus.idaho.gov
SUMMARY:AARP Telephone Town-hall on COVID-19
DESCRIPTION:Governor Little will host a statewide AARP telephone town hall to provide information and answer questions regarding COVID-19 in Idaho. The hour-long conversation begins at 12 p.m. Mountain Time. Participants can join by dialing toll-free 866-767-0637 or register in advance by visiting https://vekeo.com/aarpidaho/.
URL:https://coronavirus.idaho.gov/event/aarp-telephone-town-hall-on-covid-19-3/
END:VEVENT
BEGIN:VEVENT
DTSTART;TZID=America/Boise:20200724T090000
DTEND;TZID=America/Boise:20200724T110000
DTSTAMP:20210809T080834
CREATED:20200722T151257Z
LAST-MODIFIED:20200722T151703Z
UID:2241-1595581200-1595588400@coronavirus.idaho.gov
SUMMARY:Coronavirus Financial Advisory Committee meeting
DESCRIPTION:COVID-19 Financial Advisory Committee (CFAC) \nFriday\, July 24\, 2020 \n9:00 a.m. MT  \nDial-in: 1-720-279-0026 \nPasscode: 282979 \nAGENDA \nWelcome – Alex J. Adams  \nAction Items:  \n\nDHW Testing Proposal\nDepartment of Administration PPE Proposal\nState Treasurer Proposal\n\nEstablish Next Meeting(s)  \nPublic comments may be submitted to CFAC@dfm.idaho.gov \n 
URL:https://coronavirus.idaho.gov/event/coronavirus-financial-advisory-committee-meeting-10/
END:VEVENT
BEGIN:VEVENT
DTSTART;TZID=America/Boise:20200721T120000
DTEND;TZID=America/Boise:20200721T130000
DTSTAMP:20210809T080834
CREATED:20200720T183704Z
LAST-MODIFIED:20200720T183704Z
UID:2220-1595332800-1595336400@coronavirus.idaho.gov
SUMMARY:Gov. Little hosts AARP Telephone Town-hall on COVID-19
DESCRIPTION:Governor Little will host a statewide AARP telephone town hall to provide information and answer questions regarding COVID-19 in Idaho. The hour-long conversation begins at 12 p.m. Mountain Time. Participants can join by dialing toll-free 866-767-0637 or register in advance by visiting https://vekeo.com/aarpidaho/.
URL:https://coronavirus.idaho.gov/event/gov-little-hosts-aarp-telephone-town-hall-on-covid-19/
END:VEVENT
BEGIN:VEVENT
DTSTART;TZID=America/Boise:20200715T150000
DTEND;TZID=America/Boise:20200715T170000
DTSTAMP:20210809T080834
CREATED:20200710T210213Z
LAST-MODIFIED:20200710T210438Z
UID:2164-1594825200-1594832400@coronavirus.idaho.gov
SUMMARY:Coronavirus Financial Advisory Committee meeting
DESCRIPTION:COVID-19 Financial Advisory Committee (CFAC) \nWednesday\, July 15\, 2020 \n3:00 p.m. MT  \nDial-in: 1-720-279-0026 \nPasscode: 282979 \nDocuments for Discussion: \n\nRequest from Legislative Services Office\n\nAGENDA \nWelcome – Alex J. Adams  \nAction Item:  \n\nLegislative Services Proposal\n\nEstablish Next Meeting(s)  \nPublic comments may be  to CFAC@dfm.idaho.gov \n  \n 
URL:https://coronavirus.idaho.gov/event/coronavirus-financial-advisory-committee-meeting-9/
END:VEVENT
BEGIN:VEVENT
DTSTART;TZID=America/Boise:20200709T120000
DTEND;TZID=America/Boise:20200709T130000
DTSTAMP:20210809T080834
CREATED:20200706T234824Z
LAST-MODIFIED:20200706T234824Z
UID:2141-1594296000-1594299600@coronavirus.idaho.gov
SUMMARY:Press Conference: K-12 Reopening Plan and Stage 4 of Idaho Rebounds
DESCRIPTION:Governor Little will host a press conference regarding Idaho’s K-12 Reopening Plan and Stage 4 of Idaho Rebounds at 12 p.m. Mountain Time in the Lincoln Auditorium. The conference will be streamed to the public online.
URL:https://coronavirus.idaho.gov/event/press-conference-k-12-reopening-plan-and-stage-4-of-idaho-rebounds/
END:VEVENT
BEGIN:VEVENT
DTSTART;TZID=America/Boise:20200707T120000
DTEND;TZID=America/Boise:20200707T130000
DTSTAMP:20210809T080834
CREATED:20200706T161548Z
LAST-MODIFIED:20200706T161548Z
UID:2136-1594123200-1594126800@coronavirus.idaho.gov
SUMMARY:AARP Telephone Town-hall on COVID-19
DESCRIPTION:Governor Little will host a statewide AARP telephone town hall to provide information and answer questions regarding COVID-19 in Idaho. The hour-long conversation begins at 12 p.m. Participants can join by dialing toll-free 866-767-0637 or register in advance by visiting https://vekeo.com/aarpidaho/.
URL:https://coronavirus.idaho.gov/event/aarp-telephone-town-hall-on-covid-19-2/
END:VEVENT
BEGIN:VEVENT
DTSTART;TZID=America/Boise:20200630T120000
DTEND;TZID=America/Boise:20200630T130000
DTSTAMP:20210809T080834
CREATED:20200629T151506Z
LAST-MODIFIED:20200629T151506Z
UID:2097-1593518400-1593522000@coronavirus.idaho.gov
SUMMARY:AARP Telephone Town-hall on COVID-19
DESCRIPTION:Governor Little will host a statewide AARP telephone town hall to provide information and answer questions regarding COVID-19 in Idaho. The hour-long conversation begins at 12 p.m. Mountain Time. Participants can join by dialing toll-free 866-767-0637 or register in advance by visiting https://vekeo.com/aarpidaho/. \n  \n 
URL:https://coronavirus.idaho.gov/event/aarp-telephone-town-hall-on-covid-19/
END:VEVENT
BEGIN:VEVENT
DTSTART;TZID=America/Boise:20200626T130000
DTEND;TZID=America/Boise:20200626T150000
DTSTAMP:20210809T080834
CREATED:20200622T172548Z
LAST-MODIFIED:20200622T172548Z
UID:2026-1593176400-1593183600@coronavirus.idaho.gov
SUMMARY:Coronavirus Financial Advisory Committee meeting
DESCRIPTION:COVID-19 Financial Advisory Committee (CFAC) \nFriday\, June 26\, 2020 \n1:00 p.m. MT  \nDial-in: 1-720-279-0026 \nPasscode: 282979 \nAGENDA \nWelcome – Alex J. Adams  \nAction Item:  \n\nState Board of Education Proposal\nWorkforce Development Council Proposal\nSmall Business Grants Update\nPayroll Costs Update\n\nEstablish Next Meeting(s)  \nPublic comments may be submitted to CFAC@dfm.idaho.gov
URL:https://coronavirus.idaho.gov/event/coronavirus-financial-advisory-committee-meeting-8/
END:VEVENT
BEGIN:VEVENT
DTSTART;TZID=America/Boise:20200625T200000
DTEND;TZID=America/Boise:20200625T210000
DTSTAMP:20210809T080834
CREATED:20200619T211006Z
LAST-MODIFIED:20200619T211006Z
UID:2021-1593115200-1593118800@coronavirus.idaho.gov
SUMMARY:Gov. Little LIVE on Idaho Public Television to answer COVID-19 questions
DESCRIPTION:Governor Little will answer questions about COVID-19 in Idaho LIVE on Idaho Public Television at 8 p.m. Mountain Time\, airing on Idaho Public Television and online.
URL:https://coronavirus.idaho.gov/event/gov-little-live-on-idaho-public-television-to-answer-covid-19-questions/
END:VEVENT
BEGIN:VEVENT
DTSTART;TZID=America/Boise:20200625T120000
DTEND;TZID=America/Boise:20200625T130000
DTSTAMP:20210809T080834
CREATED:20200619T210724Z
LAST-MODIFIED:20200625T162626Z
UID:2019-1593086400-1593090000@coronavirus.idaho.gov
SUMMARY:Press Conference on Idaho Rebounds
DESCRIPTION:Governor Little will host a press conference regarding Idaho Rebounds at 12 p.m. in the Lincoln Auditorium. The conference will be streamed to the public through Idaho Public Television and https://www.idahoptv.org/shows/idahoinsession/governor/.
URL:https://coronavirus.idaho.gov/event/press-conference-on-idaho-rebounds/
END:VEVENT
BEGIN:VEVENT
DTSTART;TZID=America/Boise:20200624T133000
DTEND;TZID=America/Boise:20200624T143000
DTSTAMP:20210809T080834
CREATED:20200619T210217Z
LAST-MODIFIED:20200619T210217Z
UID:2017-1593005400-1593009000@coronavirus.idaho.gov
SUMMARY:AARP Telephone Town-hall with Gov. Brad Little & U.S. Senator Mike Crapo on COVID-19
DESCRIPTION:Governor Little and Senator Mike Crapo will host a statewide AARP telephone town hall to provide information and answer questions regarding COVID-19 in Idaho. The hour-long conversation begins at 1:30 p.m. Participants can join by dialing toll-free 866-767-0637 or register in advance by visiting https://vekeo.com/aarpidaho/.
URL:https://coronavirus.idaho.gov/event/aarp-telephone-town-hall-with-gov-brad-little-u-s-senator-mike-crapo-on-covid-19/
END:VEVENT
BEGIN:VEVENT
DTSTART;TZID=America/Boise:20200622T120000
DTEND;TZID=America/Boise:20200622T123000
DTSTAMP:20210809T080834
CREATED:20200619T205939Z
LAST-MODIFIED:20200619T205939Z
UID:2015-1592827200-1592829000@coronavirus.idaho.gov
SUMMARY:Press Conference on Red Tape Reduction
DESCRIPTION:Governor Little will host a press conference regarding Red Tape Reduction at 12 p.m. in the Lincoln Auditorium. The conference will be streamed to the public online.
URL:https://coronavirus.idaho.gov/event/press-conference-on-red-tape-reduction/
END:VEVENT
BEGIN:VEVENT
DTSTART;TZID=America/Boise:20200617T130000
DTEND;TZID=America/Boise:20200617T150000
DTSTAMP:20210809T080834
CREATED:20200616T151556Z
LAST-MODIFIED:20200617T152719Z
UID:1979-1592398800-1592406000@coronavirus.idaho.gov
SUMMARY:Coronavirus Financial Advisory Committee meeting
DESCRIPTION:COVID-19 Financial Advisory Committee (CFAC) \nWednesday\, June 17\, 2020 \n1:00 p.m. MT  \nDial-in: 1-720-279-0026 \nPasscode: 282979 \nAGENDA \nWelcome – Alex J. Adams  \nAction Item:  \n\nBack to Work Bonuses\n\nEstablish Next Meeting(s)  \nPublic comments may be submitted to CFAC@dfm.idaho.gov \nDocuments pertinent to meeting discussion: Governor’s letter to Workforce Development Council on Return to Work bonuses
URL:https://coronavirus.idaho.gov/event/coronavirus-financial-advisory-committee-meeting-7/
END:VEVENT
BEGIN:VEVENT
DTSTART;TZID=America/Boise:20200616T120000
DTEND;TZID=America/Boise:20200616T130000
DTSTAMP:20210809T080834
CREATED:20200612T212108Z
LAST-MODIFIED:20200612T212108Z
UID:1961-1592308800-1592312400@coronavirus.idaho.gov
SUMMARY:Gov. Little & AG Wasden host AARP Telephone Town-hall
DESCRIPTION:Governor Little and Idaho Attorney General Lawrence Wasden will host a statewide AARP telephone town hall to provide information and answer questions regarding fraud and COVID-19 in Idaho. The hour-long conversation begins at 12 p.m. Participants can join by dialing toll-free 866-767-0637 or register in advance by visiting https://vekeo.com/aarpidaho/.
URL:https://coronavirus.idaho.gov/event/gov-little-ag-wasden-host-aarp-telephone-town-hall/
END:VEVENT
BEGIN:VEVENT
DTSTART;TZID=America/Boise:20200611T160000
DTEND;TZID=America/Boise:20200611T170000
DTSTAMP:20210809T080834
CREATED:20200609T205525Z
LAST-MODIFIED:20200611T154212Z
UID:1916-1591891200-1591894800@coronavirus.idaho.gov
SUMMARY:Coronavirus Financial Advisory Committee meeting
DESCRIPTION:This meeting was moved from June 10 to June 11 to accomodate a quorum. \nCOVID-19 Financial Advisory Committee (CFAC) \nThursday\, June 11\, 2020 \n4:00 p.m. MT  \nDial-in: 1-720-279-0026 \nPasscode: 282979 \nAGENDA \nDocuments for Discussion:  \n\nLabor Request\nCRF Payroll Implementation\n\nWelcome – Alex J. Adams \nDiscussion on Strategic Initiatives  \nAction Item:  \n\nPublic Safety Payroll\nLabor Call Center Expansion\n\nEstablish Next Meeting(s) \nPublic comments may be submitted to CFAC@dfm.idaho.gov
URL:https://coronavirus.idaho.gov/event/coronavirus-financial-advisory-committee-meeting-6/
END:VEVENT
BEGIN:VEVENT
DTSTART;TZID=America/Boise:20200611T100000
DTEND;TZID=America/Boise:20200611T110000
DTSTAMP:20210809T080834
CREATED:20200605T235939Z
LAST-MODIFIED:20200611T124446Z
UID:1890-1591869600-1591873200@coronavirus.idaho.gov
SUMMARY:Stage 4 Press Conference
DESCRIPTION:Governor Little will host a press conference regarding Stage 4 of Idaho Rebounds at 10 a.m. Mountain Time in Room EW42 of the Capitol building. The conference will be streamed to the public through Idaho Public Television and online.
URL:https://coronavirus.idaho.gov/event/stage-4-press-conference/
END:VEVENT
BEGIN:VEVENT
DTSTART;TZID=America/Boise:20200609T120000
DTEND;TZID=America/Boise:20200609T130000
DTSTAMP:20210809T080834
CREATED:20200605T235619Z
LAST-MODIFIED:20200608T235035Z
UID:1888-1591704000-1591707600@coronavirus.idaho.gov
SUMMARY:AARP Telephone Town-hall with Gov. Little & Lt. Gov. McGeachin
DESCRIPTION:Governor Little will host a statewide AARP telephone town hall to provide information and answer questions regarding COVID-19 in Idaho. Lt. Governor Janice McGeachin will join the Governor. The hour-long conversation begins at 12 p.m. Mountain Time. Participants can join by dialing toll-free 866-767-0637 or register in advance by visiting https://vekeo.com/aarpidaho/.
URL:https://coronavirus.idaho.gov/event/aarp-telephone-town-hall-8/
END:VEVENT
BEGIN:VEVENT
DTSTART;TZID=America/Boise:20200605T150000
DTEND;TZID=America/Boise:20200605T170000
DTSTAMP:20210809T080834
CREATED:20200604T141218Z
LAST-MODIFIED:20200604T141218Z
UID:1863-1591369200-1591376400@coronavirus.idaho.gov
SUMMARY:Coronavirus Financial Advisory Committee meeting
DESCRIPTION:COVID-19 Financial Advisory Committee (CFAC) \nFriday\, June 5\, 2020 \n3:00 p.m. MT  \nDial-in: 1-720-279-0026 \nPasscode: 282979 \nAGENDA \nWelcome – Alex J. Adams \nDiscussion on Strategic Initiatives \n Action Item:  \n\nBroadband\nFirewalls\nPublic Safety\nRental assistance\n\nEstablish Next Meeting(s)  \nPublic comments may be submitted to CFAC@dfm.idaho.gov
URL:https://coronavirus.idaho.gov/event/coronavirus-financial-advisory-committee-meeting-5/
END:VEVENT
BEGIN:VEVENT
DTSTART;TZID=America/Boise:20200605T110000
DTEND;TZID=America/Boise:20200605T113000
DTSTAMP:20210809T080834
CREATED:20200604T190927Z
LAST-MODIFIED:20200604T190927Z
UID:1869-1591354800-1591356600@coronavirus.idaho.gov
SUMMARY:Press Conference: Unemployment and Idaho's Economy
DESCRIPTION:Governor Little will host a press conference related to unemployment and Idaho’s economy on Friday\, June 5 at 11 a.m. MT in Capitol Room EW42. The press conference will be streamed to the public through Idaho Public Television and online.
URL:https://coronavirus.idaho.gov/event/press-conference-unemployment-and-idahos-economy/
END:VEVENT
BEGIN:VEVENT
DTSTART;TZID=America/Boise:20200602T120000
DTEND;TZID=America/Boise:20200602T130000
DTSTAMP:20210809T080834
CREATED:20200601T145950Z
LAST-MODIFIED:20200601T150007Z
UID:1828-1591099200-1591102800@coronavirus.idaho.gov
SUMMARY:AARP Telephone Town-hall with Labor Director Jani Revier
DESCRIPTION:Governor Little and Labor Director Jani Revier will answer questions during an hour-long telephone town-hall hosted by AARP Idaho. \nCall begins at noon MDT. Participants can join by: \n· dialing toll-free 866-767-0637 at the time of the call\n· registering to be called in advance at https://vekeo.com/aarpidaho/\n· streaming live at www.facebook.com/aarpidaho
URL:https://coronavirus.idaho.gov/event/aarp-telephone-town-hall-with-labor-director-jani-revier/
END:VEVENT
END:VCALENDAR