BEGIN:VCALENDAR
VERSION:2.0
PRODID:-//Novel Coronavirus (COVID-19) - ECPv5.7.0//NONSGML v1.0//EN
CALSCALE:GREGORIAN
METHOD:PUBLISH
X-WR-CALNAME:Novel Coronavirus (COVID-19)
X-ORIGINAL-URL:https://coronavirus.idaho.gov
X-WR-CALDESC:Events for Novel Coronavirus (COVID-19)
BEGIN:VTIMEZONE
TZID:America/Boise
BEGIN:DAYLIGHT
TZOFFSETFROM:-0700
TZOFFSETTO:-0600
TZNAME:MDT
DTSTART:20210314T090000
END:DAYLIGHT
BEGIN:STANDARD
TZOFFSETFROM:-0600
TZOFFSETTO:-0700
TZNAME:MST
DTSTART:20211107T080000
END:STANDARD
END:VTIMEZONE
BEGIN:VEVENT
DTSTART;TZID=America/Boise:20210525T143000
DTEND;TZID=America/Boise:20210525T153000
DTSTAMP:20210811T042307
CREATED:20210524T195948Z
LAST-MODIFIED:20210524T195948Z
UID:5303-1621953000-1621956600@coronavirus.idaho.gov
SUMMARY:DHW COVID-19 Media Briefing
DESCRIPTION:The Department of Health and Welfare (DHW) will hold a media briefing about COVID-19 in Idaho at 2:30 p.m. (MDT) Tuesday\, May 25. \nDHW officials will offer brief opening remarks and then take questions from the media. Those who will attend the briefing include Director Dave Jeppesen; Public Health Administrator Elke Shaw-Tulloch; Dr. Christine Hahn\, Public Health medical director and state epidemiologist; Dr. Kathryn Turner\, deputy state epidemiologist\, Sarah Leeds\, manager of the Idaho Immunization Program\, and Dr. Christopher Ball\, chief of the Idaho Bureau of Laboratories. \nThe general public can join the briefing as attendees in listen/watch-only mode by selecting this link: \nhttps://idhw.webex.com/idhw/onstage/g.php?MTID=eb3499359fa462f2d381f16c8ad077bfb
URL:https://coronavirus.idaho.gov/event/dhw-covid-19-media-briefing-5/
END:VEVENT
BEGIN:VEVENT
DTSTART;TZID=America/Boise:20210608T143000
DTEND;TZID=America/Boise:20210608T150000
DTSTAMP:20210811T042307
CREATED:20210607T190245Z
LAST-MODIFIED:20210607T190245Z
UID:5386-1623162600-1623164400@coronavirus.idaho.gov
SUMMARY:DHW COVID-19 media briefing set for 2:30 p.m. Tuesday
DESCRIPTION:The Department of Health and Welfare (DHW) will hold a media briefing about COVID-19 in Idaho at 2:30 p.m. (MDT) Tuesday\, June 8. The briefing will end at 3 p.m. \nDHW officials will offer brief opening remarks and then take questions from the media. Those who will attend the briefing include Director Dave Jeppesen; Public Health Administrator Elke Shaw-Tulloch; Dr. Christine Hahn\, Public Health medical director and state epidemiologist; Dr. Kathryn Turner\, deputy state epidemiologist\, Sarah Leeds\, manager of the Idaho Immunization Program\, and Dr. Christopher Ball\, chief of the Idaho Bureau of Laboratories. \nMembers of the working media who would like to participate should RSVP in email to Niki Forbing-Orr\, Niki.Forbing-Orr@dhw.idaho.gov\, before noon Tuesday. You will receive a link to attend the briefing as a panelist. \nThe general public can join the briefing as attendees in listen/watch-only mode by selecting this link:\nhttps://idhw.webex.com/idhw/onstage/g.php?MTID=e901158e8e2e888ea7200f38c71caf16e \nThe Idaho Department of Health and Welfare is dedicated to strengthening the health\, safety\, and independence of Idahoans. Learn more at healthandwelfare.idaho.gov. \n  \nMedia Contact: \nNiki Forbing-Orr\nPublic Information Manager\n208-334-0668
URL:https://coronavirus.idaho.gov/event/dhw-covid-19-media-briefing-set-for-230-p-m-tuesday/
END:VEVENT
BEGIN:VEVENT
DTSTART;TZID=America/Boise:20210622T143000
DTEND;TZID=America/Boise:20210622T150000
DTSTAMP:20210811T042307
CREATED:20210622T182941Z
LAST-MODIFIED:20210622T182941Z
UID:5446-1624372200-1624374000@coronavirus.idaho.gov
SUMMARY:COVID-19 media briefing set for 2:30 p.m. Tuesday
DESCRIPTION:The Department of Health and Welfare (DHW) will hold a media briefing about COVID-19 in Idaho at 2:30 p.m. (MDT) Tuesday\, June 22. The briefing will end at 3 p.m \nDHW officials will offer brief opening remarks and then take questions from the media. Those who will attend the briefing include Public Health Administrator Elke Shaw-Tulloch; Dr. Christine Hahn\, Public Health medical director and state epidemiologist; Dr. Kathryn Turner\, deputy state epidemiologist\, Sarah Leeds\, manager of the Idaho Immunization Program\, and Dr. Christopher Ball\, chief of the Idaho Bureau of Laboratories. \nMembers of the working media who would like to participate should RSVP in email to Zachary Clark\, Zachary.Clark@dhw.idaho.gov before noon Tuesday. You will receive a link to attend the briefing as a panelist. \nThe general public can join the briefing as attendees in listen/watch-only mode by selecting this link: \nhttps://idhw.webex.com/idhw/onstage/g.php?MTID=edb0f270ee27ecbba0ee85af3c7b4928d \nThe Idaho Department of Health and Welfare is dedicated to strengthening the health\, safety\, and independence of Idahoans. Learn more at healthandwelfare.idaho.gov.
URL:https://coronavirus.idaho.gov/event/covid-19-media-briefing-set-for-230-p-m-tuesday/
END:VEVENT
BEGIN:VEVENT
DTSTART;TZID=America/Boise:20210720T143000
DTEND;TZID=America/Boise:20210720T150000
DTSTAMP:20210811T042307
CREATED:20210719T205356Z
LAST-MODIFIED:20210719T205356Z
UID:5551-1626791400-1626793200@coronavirus.idaho.gov
SUMMARY:DHW COVID-19 media briefing set for 2:30 p.m. Tuesday
DESCRIPTION:The Department of Health and Welfare (DHW) will hold a media briefing about COVID-19 in Idaho at 2:30 p.m. (MDT) Tuesday\, July 20. The briefing will end at 3 p.m. \nDHW officials will offer brief opening remarks and then take questions from the media. \nThose who will attend the briefing from DHW include Director Dave Jeppesen; Public Health Administrator Elke Shaw-Tulloch; Dr. Christine Hahn\, Public Health medical director and state epidemiologist; Dr. Kathryn Turner\, deputy state epidemiologist\, Sarah Leeds\, manager of the Idaho Immunization Program\, and Dr. Christopher Ball\, chief of the Idaho Bureau of Laboratories. \nMembers of the working media who would like to participate should RSVP in email to Niki Forbing-Orr\, Niki.Forbing-Orr@dhw.idaho.gov\, before noon Tuesday. You will receive a link to attend the briefing as a panelist. \nThe general public can join the briefing as attendees in listen/watch-only mode by selecting this link: https://idhw.webex.com/idhw/onstage/g.php?MTID=ee26773a43ced7a7d8b7c26841d963e52 \nThe Idaho Department of Health and Welfare is dedicated to strengthening the health\, safety\, and independence of Idahoans. Learn more at healthandwelfare.idaho.gov.
URL:https://coronavirus.idaho.gov/event/dhw-covid-19-media-briefing-set-for-230-p-m-tuesday-2/
END:VEVENT
BEGIN:VEVENT
DTSTART;TZID=America/Boise:20210803T143000
DTEND;TZID=America/Boise:20210803T150000
DTSTAMP:20210811T042307
CREATED:20210802T173449Z
LAST-MODIFIED:20210802T173449Z
UID:5591-1628001000-1628002800@coronavirus.idaho.gov
SUMMARY:COVID-19 media briefing set for 2:30 p.m. Tuesday
DESCRIPTION:The Department of Health and Welfare (DHW) will hold a media briefing about COVID-19 in Idaho at 2:30 p.m. (MDT) Tuesday\, Aug. 3\, via Webex. \nGov. Brad Little will offer opening remarks and then will leave the briefing. DHW officials also will offer brief remarks and then take questions from the media. \nThose who will attend the briefing from DHW include Director Dave Jeppesen\, Dr. Kathryn Turner\, deputy state epidemiologist\, Sarah Leeds\, manager of the Idaho Immunization Program\, and Dr. Christopher Ball\, chief of the Idaho Bureau of Laboratories. \nMembers of the working media who would like to participate should RSVP in email to Niki Forbing-Orr\, Niki.Forbing-Orr@dhw.idaho.gov\, before noon Tuesday. You will receive a link to attend the briefing as a panelist. \nThe general public can join the briefing as attendees in listen/watch-only mode by selecting this link: https://idhw.webex.com/idhw/onstage/g.php?MTID=eba939b3f1abd820b3a168a14822e3152 \nThe Idaho Department of Health and Welfare is dedicated to strengthening the health\, safety\, and independence of Idahoans. Learn more at healthandwelfare.idaho.gov. \nMedia contact: \nNiki Forbing-Orr \nPublic Information Manager \n208-334-0668
URL:https://coronavirus.idaho.gov/event/covid-19-media-briefing-set-for-230-p-m-tuesday-2/
END:VEVENT
END:VCALENDAR